BEGIN:VCALENDAR
VERSION:2.0
PRODID:-//Kaizen Leadership Institute - ECPv6.15.14//NONSGML v1.0//EN
CALSCALE:GREGORIAN
METHOD:PUBLISH
X-WR-CALNAME:Kaizen Leadership Institute
X-ORIGINAL-URL:https://www.kaizenleadershipinstitute.com
X-WR-CALDESC:Events for Kaizen Leadership Institute
REFRESH-INTERVAL;VALUE=DURATION:PT1H
X-Robots-Tag:noindex
X-PUBLISHED-TTL:PT1H
BEGIN:VTIMEZONE
TZID:America/New_York
BEGIN:DAYLIGHT
TZOFFSETFROM:-0500
TZOFFSETTO:-0400
TZNAME:EDT
DTSTART:20130310T070000
END:DAYLIGHT
BEGIN:STANDARD
TZOFFSETFROM:-0400
TZOFFSETTO:-0500
TZNAME:EST
DTSTART:20131103T060000
END:STANDARD
BEGIN:DAYLIGHT
TZOFFSETFROM:-0500
TZOFFSETTO:-0400
TZNAME:EDT
DTSTART:20140309T070000
END:DAYLIGHT
BEGIN:STANDARD
TZOFFSETFROM:-0400
TZOFFSETTO:-0500
TZNAME:EST
DTSTART:20141102T060000
END:STANDARD
BEGIN:DAYLIGHT
TZOFFSETFROM:-0500
TZOFFSETTO:-0400
TZNAME:EDT
DTSTART:20150308T070000
END:DAYLIGHT
BEGIN:STANDARD
TZOFFSETFROM:-0400
TZOFFSETTO:-0500
TZNAME:EST
DTSTART:20151101T060000
END:STANDARD
BEGIN:DAYLIGHT
TZOFFSETFROM:-0500
TZOFFSETTO:-0400
TZNAME:EDT
DTSTART:20160313T070000
END:DAYLIGHT
BEGIN:STANDARD
TZOFFSETFROM:-0400
TZOFFSETTO:-0500
TZNAME:EST
DTSTART:20161106T060000
END:STANDARD
END:VTIMEZONE
BEGIN:VEVENT
DTSTART;TZID=America/New_York:20150328T080000
DTEND;TZID=America/New_York:20150328T170000
DTSTAMP:20260423T215124
CREATED:20141204T173532Z
LAST-MODIFIED:20141204T183943Z
UID:10000045-1427529600-1427562000@www.kaizenleadershipinstitute.com
SUMMARY:THERAPEUTIC TOUCH LEVEL ONE WORKSHOP
DESCRIPTION:LEVEL ONE \nIn a Level 1 workshop\, participants learn the holistic form of energy healing called Therapeutic Touch and its various applications. They will have the opportunity to practice giving and receiving a Therapeutic Touch session with supervision and feedback\, learn about how it developed and leading-edge scientific research that supports its use. \nAt the end of the 8 hour workshop\, participants will have the confidence to begin to practise Therapeutic Touch on family members\, co-workers\, patients and students\, and themselves and apply the principles they learned to improve their personal coping skills. \nRegistrants receive a Level One Workbook and a Certificate of Participation\, upon completing the Workshop\nWorkshop Registration:\nRegular Price: $149\nTTNO Member Rate: $129\nHospice Volunteer or Staff: $129\nRegister by the Early Bird date and pay $119. SAVE $30.\nEarly bird deadline is Friday\, Feb. 27\, 2015\nRegistration deadline: Monday\, March 23\, 2015\n \n[sc:TherapeuticTouchLevel1]\nOr Call to Register\, Discuss Payment Options\, and ask any questions:\n(416) 686-6463  or use our Contact Form to connect with us.
URL:https://www.kaizenleadershipinstitute.com/event/therapeutic-touch-level-one-032815/
LOCATION:Southeast Toronto\, near Dundas & Kingston Road\, Southeast Toronto\, Canada
CATEGORIES:Therapeutic Touch Level 1,Workshop
GEO:43.6699496;-79.3111773
X-APPLE-STRUCTURED-LOCATION;VALUE=URI;X-ADDRESS=Southeast Toronto near Dundas & Kingston Road Southeast Toronto Canada;X-APPLE-RADIUS=500;X-TITLE=near Dundas & Kingston Road:geo:-79.3111773,43.6699496
END:VEVENT
BEGIN:VEVENT
DTSTART;TZID=America/New_York:20150124T080000
DTEND;TZID=America/New_York:20150124T170000
DTSTAMP:20260423T215124
CREATED:20141204T173528Z
LAST-MODIFIED:20141209T165931Z
UID:10000043-1422086400-1422118800@www.kaizenleadershipinstitute.com
SUMMARY:THERAPEUTIC TOUCH LEVEL ONE WORKSHOP
DESCRIPTION:LEVEL ONE \nIn a Level 1 workshop\, participants learn the holistic form of energy healing called Therapeutic Touch and its various applications. They will have the opportunity to practice giving and receiving a Therapeutic Touch session with supervision and feedback\, learn about how it developed and leading-edge scientific research that supports its use. \nAt the end of the 8 hour workshop\, participants will have the confidence to begin to practise Therapeutic Touch on family members\, co-workers\, patients and students\, and themselves and apply the principles they learned to improve their personal coping skills. \nRegistrants receive a Level One Workbook and a Certificate of Participation\, upon completing the Workshop\nWorkshop Registration:\nRegular Price: $149\nTTNO Member Rate: $129\nHospice Volunteer or Staff: $129\nRegister by the Early Bird date and pay $119. SAVE $30.\nEarly bird deadline is Friday\, December 19 2014\nRegistration deadline: Monday\, January 19\, 2015\n \n[sc:TherapeuticTouchLevel1]\nOr Call to Register\, Discuss Payment Options\, and ask any questions:\n(416) 686-6463  or use our Contact Form to connect with us.
URL:https://www.kaizenleadershipinstitute.com/event/therapeutic-touch-level-one-012415/
LOCATION:Southeast Toronto\, near Dundas & Kingston Road\, Southeast Toronto\, Canada
CATEGORIES:Therapeutic Touch Level 1,Workshop
GEO:43.6699496;-79.3111773
X-APPLE-STRUCTURED-LOCATION;VALUE=URI;X-ADDRESS=Southeast Toronto near Dundas & Kingston Road Southeast Toronto Canada;X-APPLE-RADIUS=500;X-TITLE=near Dundas & Kingston Road:geo:-79.3111773,43.6699496
END:VEVENT
BEGIN:VEVENT
DTSTART;TZID=America/New_York:20141120T080000
DTEND;TZID=America/New_York:20141120T170000
DTSTAMP:20260423T215124
CREATED:20140710T162344Z
LAST-MODIFIED:20141204T184023Z
UID:10000014-1416470400-1416502800@www.kaizenleadershipinstitute.com
SUMMARY:Therapeutic Touch Level One Workshop
DESCRIPTION:LEVEL ONE \nIn a Level 1 workshop\, participants learn the holistic form of energy healing called Therapeutic Touch and its various applications. They will have the opportunity to practice giving and receiving a Therapeutic Touch session with supervision and feedback\, learn about how it developed and leading-edge scientific research that supports its use. \nAt the end of the 8 hour workshop\, participants will have the confidence to begin to practise Therapeutic Touch on family members\, co-workers\, patients and students\, and themselves and apply the principles they learned to improve their personal coping skills. \nRegistrants receive a Level One Workbook and a Certificate of Participation\, upon completing the Workshop\nWorkshop Registration:\nRegular Price: $149\nTTNO Member Rate: $129\nHospice Volunteer or Staff: $129\nRegister by the Early Bird date and pay $119. SAVE $30.\nEarly bird deadline is Friday\, October 24\, 2014\nRegistration deadline: Monday\, November 17\, 2014\n \n[sc:TherapeuticTouchLevel1]\nOr Call to Register\, Discuss Payment Options\, and ask any questions:\n(416) 686-6463  or use our Contact Form to connect with us.
URL:https://www.kaizenleadershipinstitute.com/event/therapeutic-touch-level-one-workshop-112014/
LOCATION:Southeast Toronto\, near Dundas & Kingston Road\, Southeast Toronto\, Canada
CATEGORIES:Therapeutic Touch Level 1,Workshop
GEO:43.6699496;-79.3111773
X-APPLE-STRUCTURED-LOCATION;VALUE=URI;X-ADDRESS=Southeast Toronto near Dundas & Kingston Road Southeast Toronto Canada;X-APPLE-RADIUS=500;X-TITLE=near Dundas & Kingston Road:geo:-79.3111773,43.6699496
END:VEVENT
BEGIN:VEVENT
DTSTART;TZID=America/New_York:20141025T080000
DTEND;TZID=America/New_York:20141025T170000
DTSTAMP:20260423T215124
CREATED:20140710T162733Z
LAST-MODIFIED:20141204T184035Z
UID:10000048-1414224000-1414256400@www.kaizenleadershipinstitute.com
SUMMARY:Therapeutic Touch Level One Workshop
DESCRIPTION:LEVEL ONE \nIn a Level 1 workshop\, participants learn the holistic form of energy healing called Therapeutic Touch and its various applications. They will have the opportunity to practice giving and receiving a Therapeutic Touch session with supervision and feedback\, learn about how it developed and leading-edge scientific research that supports its use. \nAt the end of the 8 hour workshop\, participants will have the confidence to begin to practise Therapeutic Touch on family members\, co-workers\, patients and students\, and themselves and apply the principles they learned to improve their personal coping skills. \nRegistrants receive a Level One Workbook and a Certificate of Participation\, upon completing the Workshop\nWorkshop Registration:\nRegular Price: $149\nTTNO Member Rate: $129\nHospice Volunteer or Staff: $129\nRegister by the Early Bird date and pay $119. SAVE $30.\nEarly bird deadline is Friday\, September 26\, 2014\nRegistration deadline: Monday\, October 20\, 2014\n \n[sc:TherapeuticTouchLevel1]\nOr Call to Register\, Discuss Payment Options\, and ask any questions:\n(416) 686-6463  or use our Contact Form to connect with us.
URL:https://www.kaizenleadershipinstitute.com/event/therapeutic-touch-level-one-workshop-102514/
LOCATION:Southeast Toronto\, near Dundas & Kingston Road\, Southeast Toronto\, Canada
CATEGORIES:Therapeutic Touch Level 1,Workshop
GEO:43.6699496;-79.3111773
X-APPLE-STRUCTURED-LOCATION;VALUE=URI;X-ADDRESS=Southeast Toronto near Dundas & Kingston Road Southeast Toronto Canada;X-APPLE-RADIUS=500;X-TITLE=near Dundas & Kingston Road:geo:-79.3111773,43.6699496
END:VEVENT
BEGIN:VEVENT
DTSTART;TZID=America/New_York:20141018T090000
DTEND;TZID=America/New_York:20141018T180000
DTSTAMP:20260423T215124
CREATED:20140724T155129Z
LAST-MODIFIED:20141204T184040Z
UID:10000052-1413622800-1413655200@www.kaizenleadershipinstitute.com
SUMMARY:Therapeutic Touch Level One
DESCRIPTION:A complementary\, non-invasive\, energy healing art\, Therapeutic Touch is regularly practiced and offered in homes\, workplaces\, hospices\, hospitals\, long term care centers\, cancer\, health and wellness clinics. \nScientific research and experience show that Therapeutic Touch: \n\nRelieves stress\, pain and anxiety\nPromotes deep relaxation and healing\nImproves sleep and wellbeing\nEnhances the body’s natural restorative process\nPromotes balance and wholeness\n\nTaught in 3 Levels: \nLevel 1 – An introduction to Therapeutic Touch\, as developed by Dr. Dolores Krieger R.N. and Dora Kunz\, covers theory\, scientific research and the Therapeutic Touch method. \nLevel 2 – A deeper look at the Therapeutic Touch process\, including the role of intention\, direction and modulation of energy\, imagery\, colour and music in a healing session. The focus is on hands-on practice – giving and receiving Therapeutic Touch\, with reflection and feedback\, to improve confidence and skills. \nLevel 3 – Introduces participants to the human energy system with a look at emotions\, intuition\, distant healing\, ethical principles and the importance of self-care and personal growth for the developing practitioner. Hands-on practice and reflective practice create awareness and enhances participant’s confidence and skill. \n[sc:TTTouchSpecial]
URL:https://www.kaizenleadershipinstitute.com/event/therapeutic-touch-level-one-101814/
LOCATION:The Dorothy Ley Hospice\, 220 Sherway Drive\, Etobicoke\, Ontario\, M9C 0A7\, Canada
CATEGORIES:Therapeutic Touch Level 1,Workshop
GEO:43.6080484;-79.5599508
X-APPLE-STRUCTURED-LOCATION;VALUE=URI;X-ADDRESS=The Dorothy Ley Hospice 220 Sherway Drive Etobicoke Ontario M9C 0A7 Canada;X-APPLE-RADIUS=500;X-TITLE=220 Sherway Drive:geo:-79.5599508,43.6080484
END:VEVENT
BEGIN:VEVENT
DTSTART;TZID=America/New_York:20140912T080000
DTEND;TZID=America/New_York:20140912T170000
DTSTAMP:20260423T215124
CREATED:20140626T224113Z
LAST-MODIFIED:20141103T185344Z
UID:10000053-1410508800-1410541200@www.kaizenleadershipinstitute.com
SUMMARY:Therapeutic Touch Level One Workshop
DESCRIPTION:LEVEL ONE \nIn a Level 1 workshop\, participants learn the holistic form of energy healing called Therapeutic Touch and its various applications. They will have the opportunity to practice giving and receiving a Therapeutic Touch session with supervision and feedback\, learn about how it developed and leading-edge scientific research that supports its use. \nAt the end of the 8 hour workshop\, participants will have the confidence to begin to practise Therapeutic Touch on family members\, co-workers\, patients and students\, and themselves and apply the principles they learned to improve their personal coping skills. \nRegistrants receive a Level One Workbook and a Certificate of Participation\, upon completing the Workshop\nWorkshop Registration:\nRegular Price: $149\nTTNO Member Rate: $129\nHospice Volunteer or Staff: $129\nRegister by the Early Bird date and pay $119. SAVE $30.\nEarly bird deadline is Friday\, August 21\, 2014 \n[sc:TherapeuticTouchLevel1]\nOr Call to Register\, Discuss Payment Options\, and ask any questions:\n(416) 686-6463  or use our Contact Form to connect with us.
URL:https://www.kaizenleadershipinstitute.com/event/learn-therapeutic-touch-level-1-81214/
LOCATION:Southeast Toronto\, near Dundas & Kingston Road\, Southeast Toronto\, Canada
CATEGORIES:Therapeutic Touch Level 1,Workshop
GEO:43.6699496;-79.3111773
X-APPLE-STRUCTURED-LOCATION;VALUE=URI;X-ADDRESS=Southeast Toronto near Dundas & Kingston Road Southeast Toronto Canada;X-APPLE-RADIUS=500;X-TITLE=near Dundas & Kingston Road:geo:-79.3111773,43.6699496
END:VEVENT
BEGIN:VEVENT
DTSTART;TZID=America/New_York:20140710T080000
DTEND;TZID=America/New_York:20140710T170000
DTSTAMP:20260423T215124
CREATED:20140507T210245Z
LAST-MODIFIED:20141103T185350Z
UID:10000060-1404979200-1405011600@www.kaizenleadershipinstitute.com
SUMMARY:Therapeutic Touch Level One Workshop
DESCRIPTION:LEVEL ONE \nIn a Level 1 workshop\, participants learn the holistic form of energy healing called Therapeutic Touch and its various applications. They will have the opportunity to practice giving and receiving a Therapeutic Touch session with supervision and feedback\, learn about how it developed and leading-edge scientific research that supports its use. \nAt the end of the 8 hour workshop\, participants will have the confidence to begin to practise Therapeutic Touch on family members\, co-workers\, patients and students\, and themselves and apply the principles they learned to improve their personal coping skills. \nRegistrants receive a Level One Workbook and a Certificate of Participation\, upon completing the Workshop\nWorkshop Registration:\nRegular Price: $149\nTTNO Member Rate: $129\nHospice Volunteer or Staff: $129\nRegister by the Early Bird date and pay $119. SAVE $30.\nEarly bird deadline is Friday\, June 13\, 2014 \nRegistration deadline: Mon. July 7\, 2014\n[sc:TherapeuticTouchLevel1] \n[sc:TherapeuticTouchLevel12Combo] \nOr Call to Register\, Discuss Payment Options\, and ask any questions:\n(416) 686-6463  or use our Contact Form to connect with us.
URL:https://www.kaizenleadershipinstitute.com/event/therapeutic-touch-level-one-workshop-71014/
LOCATION:Southeast Toronto\, near Dundas & Kingston Road\, Southeast Toronto\, Canada
CATEGORIES:Therapeutic Touch Level 1
GEO:43.6699496;-79.3111773
X-APPLE-STRUCTURED-LOCATION;VALUE=URI;X-ADDRESS=Southeast Toronto near Dundas & Kingston Road Southeast Toronto Canada;X-APPLE-RADIUS=500;X-TITLE=near Dundas & Kingston Road:geo:-79.3111773,43.6699496
END:VEVENT
BEGIN:VEVENT
DTSTART;TZID=America/New_York:20140606T080000
DTEND;TZID=America/New_York:20140606T170000
DTSTAMP:20260423T215124
CREATED:20140228T021930Z
LAST-MODIFIED:20141103T185357Z
UID:10000027-1402041600-1402074000@www.kaizenleadershipinstitute.com
SUMMARY:Therapeutic Touch Level One Workshop
DESCRIPTION:LEVEL ONE \nIn a Level 1 workshop\, participants learn the holistic form of energy healing called Therapeutic Touch and its various applications. They will have the opportunity to practice giving and receiving a Therapeutic Touch session with supervision and feedback\, learn about how it developed and leading-edge scientific research that supports its use. \nAt the end of the 8 hour workshop\, participants will have the confidence to begin to practise Therapeutic Touch on family members\, co-workers\, patients and students\, and themselves and apply the principles they learned to improve their personal coping skills. \nRegistrants receive a Level One Workbook and a Certificate of Participation\, upon completing the Workshop\nWorkshop Registration:\nRegular Price: $149\nTTNO Member Rate: $129\nHospice Volunteer or Staff: $129\nRegister by the Early Bird date and pay $119. SAVE $30.\nEarly bird deadline is Friday\, April 25\, 2014 \nRegistration deadline: Mon. June 2\, 2014\n[sc:TherapeuticTouchLevel1] \nOr Call to Register\, Discuss Payment Options\, and ask any questions:\n(416) 686-6463  or use our Contact Form to connect with us.
URL:https://www.kaizenleadershipinstitute.com/event/therapeutic-touch-level-one-workshop-060714/
LOCATION:Southeast Toronto\, near Dundas & Kingston Road\, Southeast Toronto\, Canada
CATEGORIES:Therapeutic Touch Level 1
GEO:43.6699496;-79.3111773
X-APPLE-STRUCTURED-LOCATION;VALUE=URI;X-ADDRESS=Southeast Toronto near Dundas & Kingston Road Southeast Toronto Canada;X-APPLE-RADIUS=500;X-TITLE=near Dundas & Kingston Road:geo:-79.3111773,43.6699496
END:VEVENT
BEGIN:VEVENT
DTSTART;TZID=America/New_York:20140411T080000
DTEND;TZID=America/New_York:20140411T170000
DTSTAMP:20260423T215125
CREATED:20140121T210334Z
LAST-MODIFIED:20140121T210334Z
UID:10000071-1397203200-1397235600@www.kaizenleadershipinstitute.com
SUMMARY:Therapeutic Touch Level One Workshop
DESCRIPTION:LEVEL ONE \nIn a Level 1 workshop\, participants learn the holistic form of energy healing called Therapeutic Touch and its various applications. They will have the opportunity to practice giving and receiving a Therapeutic Touch session with supervision and feedback\, learn about how it developed and leading-edge scientific research that supports its use. \nAt the end of the 8 hour workshop\, participants will have the confidence to begin to practise Therapeutic Touch on family members\, co-workers\, patients and students\, and themselves and apply the principles they learned to improve their personal coping skills. \nRegistrants receive a Level One Workbook and a Certificate of Participation\, upon completing the Workshop\nWorkshop Registration:\nRegular Price: $149\nTTNO Member Rate: $129\nHospice Volunteer or Staff: $129\nRegister by the Early Bird date and pay $119. SAVE $30. Early Bird deadline Friday\, March 7\, 2014\n[sc:TherapeuticTouchLevel1] \nOr Call to Register\, Discuss Payment Options\, and ask any questions:\n(416) 686-6463  or use our Contact Form to connect with us.
URL:https://www.kaizenleadershipinstitute.com/event/therapeutic-touch-level-one-workshop-41114/
LOCATION:Southeast Toronto\, near Dundas & Kingston Road\, Southeast Toronto\, Canada
CATEGORIES:Therapeutic Touch Level 1
GEO:43.6699496;-79.3111773
X-APPLE-STRUCTURED-LOCATION;VALUE=URI;X-ADDRESS=Southeast Toronto near Dundas & Kingston Road Southeast Toronto Canada;X-APPLE-RADIUS=500;X-TITLE=near Dundas & Kingston Road:geo:-79.3111773,43.6699496
END:VEVENT
BEGIN:VEVENT
DTSTART;TZID=America/New_York:20140308T080000
DTEND;TZID=America/New_York:20140308T170000
DTSTAMP:20260423T215125
CREATED:20140108T043141Z
LAST-MODIFIED:20140113T201253Z
UID:10000091-1394265600-1394298000@www.kaizenleadershipinstitute.com
SUMMARY:Therapeutic Touch Level One Workshop
DESCRIPTION:LEVEL ONE \nIn a Level 1 workshop\, participants learn the holistic form of energy healing called Therapeutic Touch and its various applications. They will have the opportunity to practice giving and receiving a Therapeutic Touch session with supervision and feedback\, learn about how it developed and leading-edge scientific research that supports its use. \nAt the end of the 8 hour workshop\, participants will have the confidence to begin to practise Therapeutic Touch on family members\, co-workers\, patients and students\, and themselves and apply the principles they learned to improve their personal coping skills. \nRegistrants receive a Level One Workbook and a Certificate of Participation\, upon completing the Workshop\nWorkshop Registration:\nRegular Price: $149\nTTNO Member Rate: $129\nHospice Volunteer or Staff: $129\nRegister by the Early Bird date and pay $119. SAVE $30.\n[sc:TherapeuticTouchLevel1] \nOr Call to Register\, Discuss Payment Options\, and ask any questions:\n(416) 686-6463  or use our Contact Form to connect with us.
URL:https://www.kaizenleadershipinstitute.com/event/therapeutic-touch-level-one-workshop-3/
LOCATION:Southeast Toronto\, near Dundas & Kingston Road\, Southeast Toronto\, Canada
CATEGORIES:Therapeutic Touch Level 1
GEO:43.6699496;-79.3111773
X-APPLE-STRUCTURED-LOCATION;VALUE=URI;X-ADDRESS=Southeast Toronto near Dundas & Kingston Road Southeast Toronto Canada;X-APPLE-RADIUS=500;X-TITLE=near Dundas & Kingston Road:geo:-79.3111773,43.6699496
END:VEVENT
BEGIN:VEVENT
DTSTART;TZID=America/New_York:20140223T080000
DTEND;TZID=America/New_York:20140223T170000
DTSTAMP:20260423T215125
CREATED:20140113T203925Z
LAST-MODIFIED:20140113T203925Z
UID:10000030-1393142400-1393174800@www.kaizenleadershipinstitute.com
SUMMARY:Therapeutic Touch Level One Workshop
DESCRIPTION:LEVEL ONE \nIn a Level 1 workshop\, participants learn the holistic form of energy healing called Therapeutic Touch and its various applications. They will have the opportunity to practice giving and receiving a Therapeutic Touch session with supervision and feedback\, learn about how it developed and leading-edge scientific research that supports its use. \nAt the end of the 8 hour workshop\, participants will have the confidence to begin to practise Therapeutic Touch on family members\, co-workers\, patients and students\, and themselves and apply the principles they learned to improve their personal coping skills. \nRegistrants receive a Level One Workbook and a Certificate of Participation\, upon completing the Workshop\nWorkshop Registration:\nRegular Price: $149\nTTNO Member Rate: $129\nHospice Volunteer or Staff: $129\nRegister by the Early Bird date and pay $119. SAVE $30. Early bird deadline: Friday\, January 24\n[sc:TherapeuticTouchLevel1] \nOr Call to Register\, Discuss Payment Options\, and ask any questions:\n(416) 686-6463  or use our Contact Form to connect with us.
URL:https://www.kaizenleadershipinstitute.com/event/therapeutic-touch-level-one-workshop-4/
LOCATION:Southeast Toronto\, near Dundas & Kingston Road\, Southeast Toronto\, Canada
CATEGORIES:Therapeutic Touch Level 1
GEO:43.6699496;-79.3111773
X-APPLE-STRUCTURED-LOCATION;VALUE=URI;X-ADDRESS=Southeast Toronto near Dundas & Kingston Road Southeast Toronto Canada;X-APPLE-RADIUS=500;X-TITLE=near Dundas & Kingston Road:geo:-79.3111773,43.6699496
END:VEVENT
BEGIN:VEVENT
DTSTART;TZID=America/New_York:20140124T080000
DTEND;TZID=America/New_York:20140124T170000
DTSTAMP:20260423T215125
CREATED:20140108T042954Z
LAST-MODIFIED:20140121T223027Z
UID:10000089-1390550400-1390582800@www.kaizenleadershipinstitute.com
SUMMARY:Therapeutic Touch Level One Workshop
DESCRIPTION:LEVEL ONE \nIn a Level 1 workshop\, participants learn the holistic form of energy healing called Therapeutic Touch and its various applications. They will have the opportunity to practice giving and receiving a Therapeutic Touch session with supervision and feedback\, learn about how it developed and leading-edge scientific research that supports its use. \nAt the end of the 8 hour workshop\, participants will have the confidence to begin to practise Therapeutic Touch on family members\, co-workers\, patients and students\, and themselves and apply the principles they learned to improve their personal coping skills. \nRegistrants receive a Level One Workbook and a Certificate of Participation\, upon completing the Workshop\nWorkshop Registration:\nRegular Price: $149\nTTNO Member Rate: $129\nHospice Volunteer or Staff: $129\nRegister by the Early Bird date and pay $119. SAVE $30.\n[sc:TherapeuticTouchLevel1] \nOr Call to Register\, Discuss Payment Options\, and ask any questions:\n(416) 686-6463  or use our Contact Form to connect with us.
URL:https://www.kaizenleadershipinstitute.com/event/therapeutic-touch-level-one-workshop-2/
LOCATION:Southeast Toronto\, near Dundas & Kingston Road\, Southeast Toronto\, Canada
CATEGORIES:Therapeutic Touch Level 1
GEO:43.6699496;-79.3111773
X-APPLE-STRUCTURED-LOCATION;VALUE=URI;X-ADDRESS=Southeast Toronto near Dundas & Kingston Road Southeast Toronto Canada;X-APPLE-RADIUS=500;X-TITLE=near Dundas & Kingston Road:geo:-79.3111773,43.6699496
END:VEVENT
BEGIN:VEVENT
DTSTART;TZID=America/New_York:20140111T080000
DTEND;TZID=America/New_York:20140111T170000
DTSTAMP:20260423T215125
CREATED:20140108T041131Z
LAST-MODIFIED:20140121T222616Z
UID:10000087-1389427200-1389459600@www.kaizenleadershipinstitute.com
SUMMARY:Therapeutic Touch Level One Workshop
DESCRIPTION:LEVEL ONE \nIn a Level 1 workshop\, participants learn the holistic form of energy healing called Therapeutic Touch and its various applications. They will have the opportunity to practice giving and receiving a Therapeutic Touch session with supervision and feedback\, learn about how it developed and leading-edge scientific research that supports its use. \nAt the end of the 8 hour workshop\, participants will have the confidence to begin to practise Therapeutic Touch on family members\, co-workers\, patients and students\, and themselves and apply the principles they learned to improve their personal coping skills. \nRegistrants receive a Level One Workbook and a Certificate of Participation\, upon completing the Workshop\nWorkshop Registration:\nRegular Price: $149\nTTNO Member Rate: $129\nHospice Volunteer or Staff: $129\nRegister by the Early Bird date and pay $119. SAVE $30.\n[sc:TherapeuticTouchLevel1] \nOr Call to Register\, Discuss Payment Options\, and ask any questions:\n(416) 686-6463  or use our Contact Form to connect with us.
URL:https://www.kaizenleadershipinstitute.com/event/therapeutic-touch-level-one-workshop/
LOCATION:Southeast Toronto\, near Dundas & Kingston Road\, Southeast Toronto\, Canada
CATEGORIES:Therapeutic Touch Level 1
GEO:43.6699496;-79.3111773
X-APPLE-STRUCTURED-LOCATION;VALUE=URI;X-ADDRESS=Southeast Toronto near Dundas & Kingston Road Southeast Toronto Canada;X-APPLE-RADIUS=500;X-TITLE=near Dundas & Kingston Road:geo:-79.3111773,43.6699496
END:VEVENT
END:VCALENDAR