BEGIN:VCALENDAR
VERSION:2.0
PRODID:-//Kaizen Leadership Institute - ECPv6.15.14//NONSGML v1.0//EN
CALSCALE:GREGORIAN
METHOD:PUBLISH
X-ORIGINAL-URL:https://www.kaizenleadershipinstitute.com
X-WR-CALDESC:Events for Kaizen Leadership Institute
REFRESH-INTERVAL;VALUE=DURATION:PT1H
X-Robots-Tag:noindex
X-PUBLISHED-TTL:PT1H
BEGIN:VTIMEZONE
TZID:America/New_York
BEGIN:DAYLIGHT
TZOFFSETFROM:-0500
TZOFFSETTO:-0400
TZNAME:EDT
DTSTART:20130310T070000
END:DAYLIGHT
BEGIN:STANDARD
TZOFFSETFROM:-0400
TZOFFSETTO:-0500
TZNAME:EST
DTSTART:20131103T060000
END:STANDARD
BEGIN:DAYLIGHT
TZOFFSETFROM:-0500
TZOFFSETTO:-0400
TZNAME:EDT
DTSTART:20140309T070000
END:DAYLIGHT
BEGIN:STANDARD
TZOFFSETFROM:-0400
TZOFFSETTO:-0500
TZNAME:EST
DTSTART:20141102T060000
END:STANDARD
BEGIN:DAYLIGHT
TZOFFSETFROM:-0500
TZOFFSETTO:-0400
TZNAME:EDT
DTSTART:20150308T070000
END:DAYLIGHT
BEGIN:STANDARD
TZOFFSETFROM:-0400
TZOFFSETTO:-0500
TZNAME:EST
DTSTART:20151101T060000
END:STANDARD
END:VTIMEZONE
BEGIN:VEVENT
DTSTART;TZID=America/New_York:20140208T080000
DTEND;TZID=America/New_York:20140208T170000
DTSTAMP:20260423T194755
CREATED:20140121T205401Z
LAST-MODIFIED:20140121T205847Z
UID:10000070-1391846400-1391878800@www.kaizenleadershipinstitute.com
SUMMARY:Therapeutic Touch Level Three Workshop
DESCRIPTION:LEVEL THREE\nPrerequisite: Therapeutic Touch Level 2 \nLevel Three completes the basic level Therapeutic Touch curriculum. Participants will deepen their knowledge of Therapeutic Touch through practice and exchange\, learn about the human energy system and energy healing on the endocrine and autonomic nervous systems. The curriculum also covers distant healing techniques\, emotions and health\, intuition in healing\, distance healing theory and technique\, ethical principles and the role of self-care and commitment to personal growth for the developing practitioner. \nParticipants learn how to integrate knowledge gained in hands-on experience through reflective practice to create awareness and enhance confidence and skill. \nThe quality of mercy is not strain’d\, It droppeth as the gentle rain from heaven Upon the place beneath: it is twice bless’d; It blesseth him that gives and him that takes. Portia in Shakespeare’s Merchant of Venice\, a role I played many years ago. \nWorkshop Registration: \nRegular Price: $179\nTTNO Member Rate: $149\nHospice Volunteer or Staff: $149\nRegister by the Early Bird date and pay $139. SAVE $50. Registration deadline: Monday\, February 3\, 2014. \n[sc:TherapeuticTouchLevel3] [sc:TherapeuticTouchLevel12Combo] \nOr Call to Register\, Discuss Payment Options\, and ask any questions:\n(416) 686-6463 or use our Contact Form to connect with us.
URL:https://www.kaizenleadershipinstitute.com/event/therapeutic-touch-level-three-workshop-3/
LOCATION:Southeast Toronto\, near Dundas & Kingston Road\, Southeast Toronto\, Canada
CATEGORIES:Therapeutic Touch Level 3,Workshop
GEO:43.6699496;-79.3111773
X-APPLE-STRUCTURED-LOCATION;VALUE=URI;X-ADDRESS=Southeast Toronto near Dundas & Kingston Road Southeast Toronto Canada;X-APPLE-RADIUS=500;X-TITLE=near Dundas & Kingston Road:geo:-79.3111773,43.6699496
END:VEVENT
BEGIN:VEVENT
DTSTART;TZID=America/New_York:20140125T090000
DTEND;TZID=America/New_York:20140126T163000
DTSTAMP:20260423T194755
CREATED:20140108T044548Z
LAST-MODIFIED:20140113T204550Z
UID:10000078-1390640400-1390753800@www.kaizenleadershipinstitute.com
SUMMARY:Therapeutic Touch Level Three Workshop (Workshop if Full)
DESCRIPTION:Workshop if Full  \nLEVEL THREE\nPrerequisite: Therapeutic Touch Level 2 \nLevel Three completes the basic level Therapeutic Touch curriculum. Participants will deepen their knowledge of Therapeutic Touch through practice and exchange\, learn about the human energy system and energy healing on the endocrine and autonomic nervous systems. The curriculum also covers distant healing techniques\, emotions and health\, intuition in healing\, distance healing theory and technique\, ethical principles and the role of self-care and commitment to personal growth for the developing practitioner. \nParticipants learn how to integrate knowledge gained in hands-on experience through reflective practice to create awareness and enhance confidence and skill. \nThe quality of mercy is not strain’d\, It droppeth as the gentle rain from heaven Upon the place beneath: it is twice bless’d; It blesseth him that gives and him that takes. Portia in Shakespeare’s Merchant of Venice\, a role I played many years ago. \nWorkshop Registration: \nRegular Price: $179\nTTNO Member Rate: $149\nHospice Volunteer or Staff: $149\nRegister by the Early Bird date and pay $139. SAVE $50. \nWorkshop if Full Please Check Calendar of other Dates \nOr Call to Register\, Discuss Payment Options\, and ask any questions:\n(416) 686-6463  or use our Contact Form to connect with us. \n 
URL:https://www.kaizenleadershipinstitute.com/event/therapeutic-touch-level-three-workshop/
LOCATION:Southeast Toronto\, near Dundas & Kingston Road\, Southeast Toronto\, Canada
CATEGORIES:Therapeutic Touch Level 3
GEO:43.6699496;-79.3111773
X-APPLE-STRUCTURED-LOCATION;VALUE=URI;X-ADDRESS=Southeast Toronto near Dundas & Kingston Road Southeast Toronto Canada;X-APPLE-RADIUS=500;X-TITLE=near Dundas & Kingston Road:geo:-79.3111773,43.6699496
END:VEVENT
END:VCALENDAR