BEGIN:VCALENDAR
VERSION:2.0
PRODID:-//Kaizen Leadership Institute - ECPv6.15.14//NONSGML v1.0//EN
CALSCALE:GREGORIAN
METHOD:PUBLISH
X-ORIGINAL-URL:https://www.kaizenleadershipinstitute.com
X-WR-CALDESC:Events for Kaizen Leadership Institute
REFRESH-INTERVAL;VALUE=DURATION:PT1H
X-Robots-Tag:noindex
X-PUBLISHED-TTL:PT1H
BEGIN:VTIMEZONE
TZID:America/New_York
BEGIN:DAYLIGHT
TZOFFSETFROM:-0500
TZOFFSETTO:-0400
TZNAME:EDT
DTSTART:20130310T070000
END:DAYLIGHT
BEGIN:STANDARD
TZOFFSETFROM:-0400
TZOFFSETTO:-0500
TZNAME:EST
DTSTART:20131103T060000
END:STANDARD
BEGIN:DAYLIGHT
TZOFFSETFROM:-0500
TZOFFSETTO:-0400
TZNAME:EDT
DTSTART:20140309T070000
END:DAYLIGHT
BEGIN:STANDARD
TZOFFSETFROM:-0400
TZOFFSETTO:-0500
TZNAME:EST
DTSTART:20141102T060000
END:STANDARD
BEGIN:DAYLIGHT
TZOFFSETFROM:-0500
TZOFFSETTO:-0400
TZNAME:EDT
DTSTART:20150308T070000
END:DAYLIGHT
BEGIN:STANDARD
TZOFFSETFROM:-0400
TZOFFSETTO:-0500
TZNAME:EST
DTSTART:20151101T060000
END:STANDARD
END:VTIMEZONE
BEGIN:VEVENT
DTSTART;TZID=America/New_York:20141206T090000
DTEND;TZID=America/New_York:20141206T180000
DTSTAMP:20260423T222715
CREATED:20140710T161830Z
LAST-MODIFIED:20141204T184014Z
UID:10000056-1417856400-1417888800@www.kaizenleadershipinstitute.com
SUMMARY:Therapeutic Touch Level Two Workshop
DESCRIPTION:LEVEL TWO\nPrerequisite: Therapeutic Touch Level 1 Therapeutic Touch Level Two workshop content covers information on recent energy healing research\, specific techniques for pain and anxiety relief\, experiential learning exploring the nature and inter-relationships of human energy fields\, how to use imagery\, colour and sound\, breathing\, centering and techniques to enhance the healing process. Participants experience Therapeutic Touch both as provider and receiver. In Level Two\, participants will develop their ability to centre\, learn to direct and modulate energy\, learn about and apply colour and imagery in a Therapeutic Touch session\, appreciate the importance of Self-care in healing\, enhance their skills and build confidence\, experience Therapeutic Touch both as provider and receiver. \nUpcoming Level Two Workshop Dates:\nWorkshop Registration:\nRegular Price: $149\nTTNO Member Rate: $129\nHospice Volunteer or Staff: $129 \nRegister by the Early Bird date and pay $119. SAVE $30.\nEarly bird deadline Friday\, November 7\, 2014  \nRegistration deadline: Monday\, December 1\, 2014  \nRegister for Therapeutic Touch Level One and Level Two Training Combo and enjoy an intensive learning journey to embrace your inherent power to heal and develop the skill and confidence to offer sessions and reap the benefits of the practice of Therapeutic Touch. \n[sc:TherapeuticTouchLevel2]\n[sc:TherapeuticTouchLevel12Combo]\nOr Call to Register\, Discuss Payment Options\, and ask any questions: (416) 686-6463  or use our Contact Form to connect with us.
URL:https://www.kaizenleadershipinstitute.com/event/therapeutic-touch-level-two-workshop-12614/
LOCATION:Heart House Hospice\, 1-855 Matheson Blvd.\, E. Mississauga\, Ontario\,  L4W 4L6\, Canada
CATEGORIES:Therapeutic Touch Level 2,Workshop
GEO:43.6306919;-79.6455394
X-APPLE-STRUCTURED-LOCATION;VALUE=URI;X-ADDRESS=Heart House Hospice 1-855 Matheson Blvd. E. Mississauga Ontario  L4W 4L6 Canada;X-APPLE-RADIUS=500;X-TITLE=1-855 Matheson Blvd.:geo:-79.6455394,43.6306919
END:VEVENT
END:VCALENDAR